BEGIN:VCALENDAR
VERSION:2.0
PRODID:-//CharmEd.community - ECPv6.0.6.2//NONSGML v1.0//EN
CALSCALE:GREGORIAN
METHOD:PUBLISH
X-ORIGINAL-URL:https://charmed.community
X-WR-CALDESC:Events for CharmEd.community
REFRESH-INTERVAL;VALUE=DURATION:PT1H
X-Robots-Tag:noindex
X-PUBLISHED-TTL:PT1H
BEGIN:VTIMEZONE
TZID:Asia/Jakarta
BEGIN:STANDARD
TZOFFSETFROM:+0700
TZOFFSETTO:+0700
TZNAME:WIB
DTSTART:20220101T000000
END:STANDARD
END:VTIMEZONE
BEGIN:VEVENT
DTSTART;TZID=Asia/Jakarta:20220925T133000
DTEND;TZID=Asia/Jakarta:20220925T160000
DTSTAMP:20260423T094444
CREATED:20220912T063925Z
LAST-MODIFIED:20221211T110158Z
UID:4005-1664112600-1664121600@charmed.community
SUMMARY:Menjadi fasilitator belajar matematika di rumah\, bagaimana caranya? (Bagian 2)
DESCRIPTION:Menjadi fasilitator belajar matematika di rumah\, bagaimana caranya?  \nBanyak orang bingung menemani anak belajar matematika. Ada orangtua yang trauma\, bingung mencari cara. Ada banyak juga yang jago matematika\, tetapi kemampuan mendampingi anak menjadi lain ceritanya. Anak bingung\, orangtua frustasi. Anak bukannya bertemu solusi\, tetapi yang muncul seringnya disorientasi. \nHarus gimana caranya\, siiih? Untuk membersamai anak belajar matematika harus didahului dengan membangun awareness orangtua tentang bagaimana tahapan berpikir anak. \nBermatematika itu bukan sekedar menghapal rumus\, tapi melatih anak sebuah proses bernalar. Apa saja proses standar untuk mencapai tujuan itu? Karena ini sebuah proses\, kita butuh kaidah\, prinsip-prinsip yang akan mengawal proses itu. Lalu\, jika sudah sadar dan tahu prosesnya\, bagaimana seharusnya fasilitator bersikap? \nBerkolaborasi dengan Gernas Tastaka (Gerakan Nasional Pemberantasan Buta Matematika)\, Charmed Live kali ini akan menghadirkan Kak Siti Andriani\, Master Trainer Gernas Tastaka. \nKami akan mencoba membantu orangtua yang ingin menumbuhkan generasi yang bahagia bermatematika menggali seni mendampingi anak belajar matematika. Catat tanggalnya\, ya! \nHari Minggu\, 18 & 25 September 2022 Jam 13.30 WIB  \nZoom  \nYouTube  \nEmkaen
URL:https://charmed.community/event/menjadi-fasilitator-belajar-matematika-di-rumah-bagaimana-caranya-2/
CATEGORIES:Event
ATTACH;FMTTYPE=image/jpeg:https://charmed.community/wp-content/uploads/2022/09/WhatsApp-Image-2022-09-09-at-5.24.40-PM.jpeg
END:VEVENT
END:VCALENDAR